BEGIN:VCALENDAR
VERSION:2.0
PRODID:-//Storm Netball Club - ECPv6.11.2//NONSGML v1.0//EN
CALSCALE:GREGORIAN
METHOD:PUBLISH
X-ORIGINAL-URL:https://www.stormnetballclub.org
X-WR-CALDESC:Events for Storm Netball Club
REFRESH-INTERVAL;VALUE=DURATION:PT1H
X-Robots-Tag:noindex
X-PUBLISHED-TTL:PT1H
BEGIN:VTIMEZONE
TZID:Australia/Perth
BEGIN:STANDARD
TZOFFSETFROM:+0800
TZOFFSETTO:+0800
TZNAME:AWST
DTSTART:20200101T000000
END:STANDARD
END:VTIMEZONE
BEGIN:VEVENT
DTSTART;TZID=Australia/Perth:20200202T160000
DTEND;TZID=Australia/Perth:20200202T180000
DTSTAMP:20260420T180220
CREATED:20200102T072651Z
LAST-MODIFIED:20200102T072651Z
UID:2299-1580659200-1580666400@www.stormnetballclub.org
SUMMARY:Opens Players dress fitting
DESCRIPTION:Opens Players dress fitting\, PNA hall\, 4-6pm
URL:https://www.stormnetballclub.org/event/opens-players-dress-fitting/
END:VEVENT
BEGIN:VEVENT
DTSTART;TZID=Australia/Perth:20200202T160000
DTEND;TZID=Australia/Perth:20200202T180000
DTSTAMP:20260420T180220
CREATED:20200102T072800Z
LAST-MODIFIED:20200102T072800Z
UID:2301-1580659200-1580666400@www.stormnetballclub.org
SUMMARY:Yr 7/8 and 9-12 Trials and Grading
DESCRIPTION:Yr 7/8 and 9-12 Trials and Grading.  Bring second-hand tops and skirts\, order new items and pick up briefs (if you’ve paid rego fees)
URL:https://www.stormnetballclub.org/event/yr-7-8-and-9-12-trials-and-grading/
END:VEVENT
END:VCALENDAR