BEGIN:VCALENDAR
VERSION:2.0
PRODID:-//Storm Netball Club - ECPv6.11.2//NONSGML v1.0//EN
CALSCALE:GREGORIAN
METHOD:PUBLISH
X-WR-CALNAME:Storm Netball Club
X-ORIGINAL-URL:https://www.stormnetballclub.org
X-WR-CALDESC:Events for Storm Netball Club
REFRESH-INTERVAL;VALUE=DURATION:PT1H
X-Robots-Tag:noindex
X-PUBLISHED-TTL:PT1H
BEGIN:VTIMEZONE
TZID:Australia/Perth
BEGIN:STANDARD
TZOFFSETFROM:+0800
TZOFFSETTO:+0800
TZNAME:AWST
DTSTART:20210101T000000
END:STANDARD
END:VTIMEZONE
BEGIN:VEVENT
DTSTART;TZID=Australia/Perth:20210221T160000
DTEND;TZID=Australia/Perth:20210221T180000
DTSTAMP:20260421T170744
CREATED:20210206T041721Z
LAST-MODIFIED:20210206T041721Z
UID:3089-1613923200-1613930400@www.stormnetballclub.org
SUMMARY:Yr 9-12 Uniform Fitting\, 4pm - 6pm
DESCRIPTION:Yr 9-12 Uniform Fitting session\, in PNA hall\, 4pm – 6pm
URL:https://www.stormnetballclub.org/event/yr-9-12-uniform-fitting-4pm-6pm/
END:VEVENT
BEGIN:VEVENT
DTSTART;TZID=Australia/Perth:20210221T160000
DTEND;TZID=Australia/Perth:20210221T180000
DTSTAMP:20260421T170744
CREATED:20210206T041824Z
LAST-MODIFIED:20210206T041824Z
UID:3091-1613923200-1613930400@www.stormnetballclub.org
SUMMARY:Yr 7/8 Grading\, 4pm - 6pm
DESCRIPTION:Yr 7/8 Grading\, 4pm – 6pm
URL:https://www.stormnetballclub.org/event/yr-7-8-grading-4pm-6pm-2/
END:VEVENT
END:VCALENDAR