BEGIN:VCALENDAR
VERSION:2.0
PRODID:-//Storm Netball Club - ECPv6.11.2//NONSGML v1.0//EN
CALSCALE:GREGORIAN
METHOD:PUBLISH
X-WR-CALNAME:Storm Netball Club
X-ORIGINAL-URL:https://www.stormnetballclub.org
X-WR-CALDESC:Events for Storm Netball Club
REFRESH-INTERVAL;VALUE=DURATION:PT1H
X-Robots-Tag:noindex
X-PUBLISHED-TTL:PT1H
BEGIN:VTIMEZONE
TZID:Australia/Perth
BEGIN:STANDARD
TZOFFSETFROM:+0800
TZOFFSETTO:+0800
TZNAME:AWST
DTSTART:20210101T000000
END:STANDARD
END:VTIMEZONE
BEGIN:VEVENT
DTSTART;TZID=Australia/Perth:20210309T170000
DTEND;TZID=Australia/Perth:20210309T210000
DTSTAMP:20260421T184700
CREATED:20210206T043423Z
LAST-MODIFIED:20210302T120938Z
UID:3119-1615309200-1615323600@www.stormnetballclub.org
SUMMARY:LAST GRADING Yr 7/8\, 9-12 and Opens
DESCRIPTION:Last Grading session tonight for: \nYr 7/8 5pm – 6:30pm \nYr 9-12 6:30pm – 8pm \nOpens/Masters warm up from 7:30pm\, on court 8pm – 9pm \nAll of these age group players must attend\, and all Umpires to attend please.  Thanks!
URL:https://www.stormnetballclub.org/event/all-ages-grading-session-times-tba/
END:VEVENT
END:VCALENDAR