BEGIN:VCALENDAR
VERSION:2.0
PRODID:-//Storm Netball Club - ECPv6.11.2//NONSGML v1.0//EN
CALSCALE:GREGORIAN
METHOD:PUBLISH
X-ORIGINAL-URL:https://www.stormnetballclub.org
X-WR-CALDESC:Events for Storm Netball Club
REFRESH-INTERVAL;VALUE=DURATION:PT1H
X-Robots-Tag:noindex
X-PUBLISHED-TTL:PT1H
BEGIN:VTIMEZONE
TZID:Australia/Perth
BEGIN:STANDARD
TZOFFSETFROM:+0800
TZOFFSETTO:+0800
TZNAME:AWST
DTSTART:20210101T000000
END:STANDARD
END:VTIMEZONE
BEGIN:VEVENT
DTSTART;TZID=Australia/Perth:20210508T080000
DTEND;TZID=Australia/Perth:20210508T170000
DTSTAMP:20260420T033251
CREATED:20210328T093150Z
LAST-MODIFIED:20210502T031507Z
UID:3246-1620460800-1620493200@www.stormnetballclub.org
SUMMARY:Games begin for Yr 5/6! Games for Yr 7/8\, Yr 9-12 and Opens/Masters
DESCRIPTION:Karen Appleby will be in the cage all day to sort out any last minute uniform dramas.
URL:https://www.stormnetballclub.org/event/games-begin-for-yr-5-6-games-for-yr-7-8-yr-9-12-and-opens-masters/
END:VEVENT
END:VCALENDAR