BEGIN:VCALENDAR
VERSION:2.0
PRODID:-//Storm Netball Club - ECPv6.11.2//NONSGML v1.0//EN
CALSCALE:GREGORIAN
METHOD:PUBLISH
X-ORIGINAL-URL:https://www.stormnetballclub.org
X-WR-CALDESC:Events for Storm Netball Club
REFRESH-INTERVAL;VALUE=DURATION:PT1H
X-Robots-Tag:noindex
X-PUBLISHED-TTL:PT1H
BEGIN:VTIMEZONE
TZID:Australia/Perth
BEGIN:STANDARD
TZOFFSETFROM:+0800
TZOFFSETTO:+0800
TZNAME:AWST
DTSTART:20210101T000000
END:STANDARD
END:VTIMEZONE
BEGIN:VEVENT
DTSTART;TZID=Australia/Perth:20210604T080000
DTEND;TZID=Australia/Perth:20210604T170000
DTSTAMP:20260421T142118
CREATED:20210328T093648Z
LAST-MODIFIED:20210328T094015Z
UID:3270-1622793600-1622826000@www.stormnetballclub.org
SUMMARY:NO GAMES
DESCRIPTION:Associations Championships weekend.  Good luck to our PNA representative players!
URL:https://www.stormnetballclub.org/event/games-yr-3-4-3/
END:VEVENT
END:VCALENDAR