BEGIN:VCALENDAR
VERSION:2.0
PRODID:-//Storm Netball Club - ECPv6.11.2//NONSGML v1.0//EN
CALSCALE:GREGORIAN
METHOD:PUBLISH
X-WR-CALNAME:Storm Netball Club
X-ORIGINAL-URL:https://www.stormnetballclub.org
X-WR-CALDESC:Events for Storm Netball Club
REFRESH-INTERVAL;VALUE=DURATION:PT1H
X-Robots-Tag:noindex
X-PUBLISHED-TTL:PT1H
BEGIN:VTIMEZONE
TZID:Australia/Perth
BEGIN:STANDARD
TZOFFSETFROM:+0800
TZOFFSETTO:+0800
TZNAME:AWST
DTSTART:20210101T000000
END:STANDARD
END:VTIMEZONE
BEGIN:VEVENT
DTSTART;TZID=Australia/Perth:20210629T170000
DTEND;TZID=Australia/Perth:20210629T210000
DTSTAMP:20260421T141955
CREATED:20210328T094457Z
LAST-MODIFIED:20210628T112431Z
UID:3294-1624986000-1625000400@www.stormnetballclub.org
SUMMARY:CANCELLED   Usual training times for all year groups
DESCRIPTION:CANCELLED TRAINING\, DUE TO COVID 19 RESTRICTIONS
URL:https://www.stormnetballclub.org/event/usual-training-times-for-all-year-groups/
END:VEVENT
BEGIN:VEVENT
DTSTART;TZID=Australia/Perth:20210629T170000
DTEND;TZID=Australia/Perth:20210629T210000
DTSTAMP:20260421T141955
CREATED:20210627T003157Z
LAST-MODIFIED:20210628T112343Z
UID:3531-1624986000-1625000400@www.stormnetballclub.org
SUMMARY:CANCELLED   Pizza & Fun Night!!
DESCRIPTION:CANCELLED DUE TO COVID19 RESTRICTIONS AT PNA \n  \nPizza & Fun Night!!  Come for your normal training times – but expect games on the courts and pizza picnic!  Yes\, this can still go ahead re COVID19 restrictions\, as we have adjusted the format (no longer using the hall).  Wear something warm! \n 
URL:https://www.stormnetballclub.org/event/pizza-fun-night/
END:VEVENT
END:VCALENDAR