BEGIN:VCALENDAR
VERSION:2.0
PRODID:-//Storm Netball Club - ECPv6.11.2//NONSGML v1.0//EN
CALSCALE:GREGORIAN
METHOD:PUBLISH
X-WR-CALNAME:Storm Netball Club
X-ORIGINAL-URL:https://www.stormnetballclub.org
X-WR-CALDESC:Events for Storm Netball Club
REFRESH-INTERVAL;VALUE=DURATION:PT1H
X-Robots-Tag:noindex
X-PUBLISHED-TTL:PT1H
BEGIN:VTIMEZONE
TZID:Australia/Perth
BEGIN:STANDARD
TZOFFSETFROM:+0800
TZOFFSETTO:+0800
TZNAME:AWST
DTSTART:20220101T000000
END:STANDARD
END:VTIMEZONE
BEGIN:VEVENT
DTSTART;TZID=Australia/Perth:20220222T164500
DTEND;TZID=Australia/Perth:20220222T190000
DTSTAMP:20260421T234927
CREATED:20220115T145656Z
LAST-MODIFIED:20220218T053055Z
UID:3734-1645548300-1645556400@www.stormnetballclub.org
SUMMARY:Uniform Fitting Session 4:45-7pm
DESCRIPTION:
URL:https://www.stormnetballclub.org/event/uniform-fitting-session-3/
END:VEVENT
BEGIN:VEVENT
DTSTART;TZID=Australia/Perth:20220222T170000
DTEND;TZID=Australia/Perth:20220222T183000
DTSTAMP:20260421T234927
CREATED:20220117T091905Z
LAST-MODIFIED:20220126T072155Z
UID:3802-1645549200-1645554600@www.stormnetballclub.org
SUMMARY:Grading Yr 3-6\, 5pm-6:30pm
DESCRIPTION:
URL:https://www.stormnetballclub.org/event/grading-yr-3-6-4pm-6pm/
END:VEVENT
BEGIN:VEVENT
DTSTART;TZID=Australia/Perth:20220222T170000
DTEND;TZID=Australia/Perth:20220222T200000
DTSTAMP:20260421T234927
CREATED:20220117T091938Z
LAST-MODIFIED:20220117T091938Z
UID:3804-1645549200-1645560000@www.stormnetballclub.org
SUMMARY:Grading Yr 9-12\, 5pm-8pm
DESCRIPTION:
URL:https://www.stormnetballclub.org/event/grading-yr-9-12-5pm-8pm/
END:VEVENT
END:VCALENDAR