BEGIN:VCALENDAR
VERSION:2.0
PRODID:-//Storm Netball Club - ECPv6.11.2//NONSGML v1.0//EN
CALSCALE:GREGORIAN
METHOD:PUBLISH
X-ORIGINAL-URL:https://www.stormnetballclub.org
X-WR-CALDESC:Events for Storm Netball Club
REFRESH-INTERVAL;VALUE=DURATION:PT1H
X-Robots-Tag:noindex
X-PUBLISHED-TTL:PT1H
BEGIN:VTIMEZONE
TZID:Australia/Perth
BEGIN:STANDARD
TZOFFSETFROM:+0800
TZOFFSETTO:+0800
TZNAME:AWST
DTSTART:20220101T000000
END:STANDARD
END:VTIMEZONE
BEGIN:VEVENT
DTSTART;TZID=Australia/Perth:20220301T164500
DTEND;TZID=Australia/Perth:20220301T183000
DTSTAMP:20260421T235111
CREATED:20220115T150402Z
LAST-MODIFIED:20220301T082208Z
UID:3740-1646153100-1646159400@www.stormnetballclub.org
SUMMARY:CANCELLED: LAST Uniform Fitting Session 4:45-6:30pm
DESCRIPTION:
URL:https://www.stormnetballclub.org/event/last-uniform-fitting-session/
END:VEVENT
BEGIN:VEVENT
DTSTART;TZID=Australia/Perth:20220301T170000
DTEND;TZID=Australia/Perth:20220301T183000
DTSTAMP:20260421T235111
CREATED:20220226T063133Z
LAST-MODIFIED:20220226T063204Z
UID:3918-1646154000-1646159400@www.stormnetballclub.org
SUMMARY:FINAL Grading Yr 3-6\, 5pm-6:30pm
DESCRIPTION:
URL:https://www.stormnetballclub.org/event/grading-yr-3-6-5pm-630pm/
END:VEVENT
BEGIN:VEVENT
DTSTART;TZID=Australia/Perth:20220301T183000
DTEND;TZID=Australia/Perth:20220301T200000
DTSTAMP:20260421T235111
CREATED:20220117T092417Z
LAST-MODIFIED:20220226T063228Z
UID:3816-1646159400-1646164800@www.stormnetballclub.org
SUMMARY:FINAL Grading Opens\, 6:30pm-8pm
DESCRIPTION:
URL:https://www.stormnetballclub.org/event/grading-opens-7pm-830pm/
END:VEVENT
END:VCALENDAR