BEGIN:VCALENDAR
VERSION:2.0
PRODID:-//Storm Netball Club - ECPv6.11.2//NONSGML v1.0//EN
CALSCALE:GREGORIAN
METHOD:PUBLISH
X-ORIGINAL-URL:https://www.stormnetballclub.org
X-WR-CALDESC:Events for Storm Netball Club
REFRESH-INTERVAL;VALUE=DURATION:PT1H
X-Robots-Tag:noindex
X-PUBLISHED-TTL:PT1H
BEGIN:VTIMEZONE
TZID:Australia/Perth
BEGIN:STANDARD
TZOFFSETFROM:+0800
TZOFFSETTO:+0800
TZNAME:AWST
DTSTART:20220101T000000
END:STANDARD
END:VTIMEZONE
BEGIN:VEVENT
DTSTART;TZID=Australia/Perth:20220302T080000
DTEND;TZID=Australia/Perth:20220302T080000
DTSTAMP:20260421T235020
CREATED:20220218T053320Z
LAST-MODIFIED:20220218T053320Z
UID:3860-1646208000-1646208000@www.stormnetballclub.org
SUMMARY:ALL UNIFORM ORDERS TO BE DONE BY TODAY
DESCRIPTION:Today is the cut off for orders to be placed on our website shop\, to ensure timely delivery before games begin.
URL:https://www.stormnetballclub.org/event/all-uniform-orders-to-be-done-by-today/
END:VEVENT
END:VCALENDAR