BEGIN:VCALENDAR
VERSION:2.0
PRODID:-//Storm Netball Club - ECPv6.11.2//NONSGML v1.0//EN
CALSCALE:GREGORIAN
METHOD:PUBLISH
X-WR-CALNAME:Storm Netball Club
X-ORIGINAL-URL:https://www.stormnetballclub.org
X-WR-CALDESC:Events for Storm Netball Club
REFRESH-INTERVAL;VALUE=DURATION:PT1H
X-Robots-Tag:noindex
X-PUBLISHED-TTL:PT1H
BEGIN:VTIMEZONE
TZID:Australia/Perth
BEGIN:STANDARD
TZOFFSETFROM:+0800
TZOFFSETTO:+0800
TZNAME:AWST
DTSTART:20220101T000000
END:STANDARD
END:VTIMEZONE
BEGIN:VEVENT
DTSTART;TZID=Australia/Perth:20220308T170000
DTEND;TZID=Australia/Perth:20220308T203000
DTSTAMP:20260422T011905
CREATED:20220117T092708Z
LAST-MODIFIED:20220224T041910Z
UID:3821-1646758800-1646771400@www.stormnetballclub.org
SUMMARY:Weekly training begins for all age groups
DESCRIPTION:Yr 3/6 train 5pm – 6pm (or to 6:30pm\, ask your Coach) \nYr 7/8 train 5pm – 6:30pm \nYr 9-12 train 6:30pm – 8pm \nOpens train 7:30pm – 8:30pm
URL:https://www.stormnetballclub.org/event/opens-normal-training-begins/
END:VEVENT
END:VCALENDAR