BEGIN:VCALENDAR
VERSION:2.0
PRODID:-//Storm Netball Club - ECPv6.11.2//NONSGML v1.0//EN
CALSCALE:GREGORIAN
METHOD:PUBLISH
X-ORIGINAL-URL:https://www.stormnetballclub.org
X-WR-CALDESC:Events for Storm Netball Club
REFRESH-INTERVAL;VALUE=DURATION:PT1H
X-Robots-Tag:noindex
X-PUBLISHED-TTL:PT1H
BEGIN:VTIMEZONE
TZID:Australia/Perth
BEGIN:STANDARD
TZOFFSETFROM:+0800
TZOFFSETTO:+0800
TZNAME:AWST
DTSTART:20220101T000000
END:STANDARD
END:VTIMEZONE
BEGIN:VEVENT
DTSTART;TZID=Australia/Perth:20220426T170000
DTEND;TZID=Australia/Perth:20220426T203000
DTSTAMP:20260422T025238
CREATED:20220117T075029Z
LAST-MODIFIED:20220422T124141Z
UID:3763-1650992400-1651005000@www.stormnetballclub.org
SUMMARY:Uniform Distribution: direct to players
DESCRIPTION:Uniforms orders will be given to players at the end of their training session. Please take it home\, then come to a subsequent session if you have any problems.
URL:https://www.stormnetballclub.org/event/uniform-pick-up-5-7pm/
END:VEVENT
END:VCALENDAR