BEGIN:VCALENDAR
VERSION:2.0
PRODID:-//Storm Netball Club - ECPv6.11.2//NONSGML v1.0//EN
CALSCALE:GREGORIAN
METHOD:PUBLISH
X-ORIGINAL-URL:https://www.stormnetballclub.org
X-WR-CALDESC:Events for Storm Netball Club
REFRESH-INTERVAL;VALUE=DURATION:PT1H
X-Robots-Tag:noindex
X-PUBLISHED-TTL:PT1H
BEGIN:VTIMEZONE
TZID:Australia/Perth
BEGIN:STANDARD
TZOFFSETFROM:+0800
TZOFFSETTO:+0800
TZNAME:AWST
DTSTART:20220101T000000
END:STANDARD
END:VTIMEZONE
BEGIN:VEVENT
DTSTART;TZID=Australia/Perth:20220427T173000
DTEND;TZID=Australia/Perth:20220427T183000
DTSTAMP:20260422T025237
CREATED:20220422T124248Z
LAST-MODIFIED:20220422T124248Z
UID:3991-1651080600-1651084200@www.stormnetballclub.org
SUMMARY:Uniform issues/late collection session 5:30pm-6:30pm
DESCRIPTION:Come to the Storm cage 5:30pm-6:30pm to sort out any uniform issues/late collections.
URL:https://www.stormnetballclub.org/event/uniform-issues-late-collection-session-530pm-630pm/
END:VEVENT
END:VCALENDAR