BEGIN:VCALENDAR
VERSION:2.0
PRODID:-//Storm Netball Club - ECPv6.11.2//NONSGML v1.0//EN
CALSCALE:GREGORIAN
METHOD:PUBLISH
X-ORIGINAL-URL:https://www.stormnetballclub.org
X-WR-CALDESC:Events for Storm Netball Club
REFRESH-INTERVAL;VALUE=DURATION:PT1H
X-Robots-Tag:noindex
X-PUBLISHED-TTL:PT1H
BEGIN:VTIMEZONE
TZID:Australia/Perth
BEGIN:STANDARD
TZOFFSETFROM:+0800
TZOFFSETTO:+0800
TZNAME:AWST
DTSTART:20230101T000000
END:STANDARD
END:VTIMEZONE
BEGIN:VEVENT
DTSTART;TZID=Australia/Perth:20230214T170000
DTEND;TZID=Australia/Perth:20230214T190000
DTSTAMP:20260422T122311
CREATED:20230119T014901Z
LAST-MODIFIED:20230119T014901Z
UID:4254-1676394000-1676401200@www.stormnetballclub.org
SUMMARY:Coaches\, Managers & Umpires Info Night
DESCRIPTION:5pm – 7pm in the PNA Hall\, Matthews Netball Centre
URL:https://www.stormnetballclub.org/event/coaches-managers-umpires-info-night/
END:VEVENT
BEGIN:VEVENT
DTSTART;TZID=Australia/Perth:20230214T170000
DTEND;TZID=Australia/Perth:20230214T190000
DTSTAMP:20260422T122311
CREATED:20230119T020218Z
LAST-MODIFIED:20230119T020218Z
UID:4278-1676394000-1676401200@www.stormnetballclub.org
SUMMARY:Yr 9-12's Grading 5pm - 7pm
DESCRIPTION:
URL:https://www.stormnetballclub.org/event/yr-9-12s-grading-5pm-7pm/
END:VEVENT
END:VCALENDAR