BEGIN:VCALENDAR
VERSION:2.0
PRODID:-//Storm Netball Club - ECPv6.11.2//NONSGML v1.0//EN
CALSCALE:GREGORIAN
METHOD:PUBLISH
X-ORIGINAL-URL:https://www.stormnetballclub.org
X-WR-CALDESC:Events for Storm Netball Club
REFRESH-INTERVAL;VALUE=DURATION:PT1H
X-Robots-Tag:noindex
X-PUBLISHED-TTL:PT1H
BEGIN:VTIMEZONE
TZID:Australia/Perth
BEGIN:STANDARD
TZOFFSETFROM:+0800
TZOFFSETTO:+0800
TZNAME:AWST
DTSTART:20230101T000000
END:STANDARD
END:VTIMEZONE
BEGIN:VEVENT
DTSTART;TZID=Australia/Perth:20230226T160000
DTEND;TZID=Australia/Perth:20230226T180000
DTSTAMP:20260422T122317
CREATED:20230119T015808Z
LAST-MODIFIED:20230119T015808Z
UID:4264-1677427200-1677434400@www.stormnetballclub.org
SUMMARY:Yr's 3-6 Grading 4pm-6pm
DESCRIPTION:
URL:https://www.stormnetballclub.org/event/yrs-3-6-grading-4pm-6pm/
END:VEVENT
BEGIN:VEVENT
DTSTART;TZID=Australia/Perth:20230226T160000
DTEND;TZID=Australia/Perth:20230226T180000
DTSTAMP:20260422T122317
CREATED:20230119T020036Z
LAST-MODIFIED:20230119T020036Z
UID:4272-1677427200-1677434400@www.stormnetballclub.org
SUMMARY:Yr 7/8's Grading 4pm - 6pm
DESCRIPTION:
URL:https://www.stormnetballclub.org/event/yr-7-8s-grading-4pm-6pm/
END:VEVENT
BEGIN:VEVENT
DTSTART;TZID=Australia/Perth:20230226T160000
DTEND;TZID=Australia/Perth:20230226T180000
DTSTAMP:20260422T122317
CREATED:20230119T020329Z
LAST-MODIFIED:20230119T020336Z
UID:4282-1677427200-1677434400@www.stormnetballclub.org
SUMMARY:Yr 9-12's Grading 4pm - 6pm
DESCRIPTION:
URL:https://www.stormnetballclub.org/event/yr-9-12s-4pm-6pm/
END:VEVENT
BEGIN:VEVENT
DTSTART;TZID=Australia/Perth:20230226T160000
DTEND;TZID=Australia/Perth:20230226T180000
DTSTAMP:20260422T122317
CREATED:20230119T020504Z
LAST-MODIFIED:20230119T020504Z
UID:4289-1677427200-1677434400@www.stormnetballclub.org
SUMMARY:Opens Grading 4pm - 6pm
DESCRIPTION:
URL:https://www.stormnetballclub.org/event/opens-grading-4pm-6pm/
END:VEVENT
END:VCALENDAR