BEGIN:VCALENDAR
VERSION:2.0
PRODID:-//Storm Netball Club - ECPv6.11.2//NONSGML v1.0//EN
CALSCALE:GREGORIAN
METHOD:PUBLISH
X-ORIGINAL-URL:https://www.stormnetballclub.org
X-WR-CALDESC:Events for Storm Netball Club
REFRESH-INTERVAL;VALUE=DURATION:PT1H
X-Robots-Tag:noindex
X-PUBLISHED-TTL:PT1H
BEGIN:VTIMEZONE
TZID:Australia/Perth
BEGIN:STANDARD
TZOFFSETFROM:+0800
TZOFFSETTO:+0800
TZNAME:AWST
DTSTART:20230101T000000
END:STANDARD
END:VTIMEZONE
BEGIN:VEVENT
DTSTART;TZID=Australia/Perth:20230228T170000
DTEND;TZID=Australia/Perth:20230228T190000
DTSTAMP:20260422T122312
CREATED:20230119T015849Z
LAST-MODIFIED:20230227T014815Z
UID:4266-1677603600-1677610800@www.stormnetballclub.org
SUMMARY:CANCELLED Yr's 3-6 Grading 5pm - 7pm
DESCRIPTION:Year 3-6 no longer needing this Grading session
URL:https://www.stormnetballclub.org/event/yrs-3-6-grading-5pm-7pm/
END:VEVENT
BEGIN:VEVENT
DTSTART;TZID=Australia/Perth:20230228T170000
DTEND;TZID=Australia/Perth:20230228T190000
DTSTAMP:20260422T122312
CREATED:20230119T020111Z
LAST-MODIFIED:20230119T020111Z
UID:4274-1677603600-1677610800@www.stormnetballclub.org
SUMMARY:Yr 7/8's Grading 5pm - 7pm
DESCRIPTION:
URL:https://www.stormnetballclub.org/event/yr-7-8s-grading-5pm-7pm-2/
END:VEVENT
BEGIN:VEVENT
DTSTART;TZID=Australia/Perth:20230228T170000
DTEND;TZID=Australia/Perth:20230228T190000
DTSTAMP:20260422T122312
CREATED:20230119T020404Z
LAST-MODIFIED:20230119T020404Z
UID:4285-1677603600-1677610800@www.stormnetballclub.org
SUMMARY:Yr 9-12's Grading 5pm - 7pm
DESCRIPTION:
URL:https://www.stormnetballclub.org/event/yr-9-12s-grading-5pm-7pm-2/
END:VEVENT
BEGIN:VEVENT
DTSTART;TZID=Australia/Perth:20230228T170000
DTEND;TZID=Australia/Perth:20230228T190000
DTSTAMP:20260422T122312
CREATED:20230119T020537Z
LAST-MODIFIED:20230227T014901Z
UID:4291-1677603600-1677610800@www.stormnetballclub.org
SUMMARY:CHANGED TIME Opens Grading 6:30pm - 8pm
DESCRIPTION:Changed time\, now Opens Grading at 6:30-8pm
URL:https://www.stormnetballclub.org/event/opens-grading-5pm-7pm/
END:VEVENT
END:VCALENDAR