BEGIN:VCALENDAR
VERSION:2.0
PRODID:-//Storm Netball Club - ECPv6.11.2//NONSGML v1.0//EN
CALSCALE:GREGORIAN
METHOD:PUBLISH
X-ORIGINAL-URL:https://www.stormnetballclub.org
X-WR-CALDESC:Events for Storm Netball Club
REFRESH-INTERVAL;VALUE=DURATION:PT1H
X-Robots-Tag:noindex
X-PUBLISHED-TTL:PT1H
BEGIN:VTIMEZONE
TZID:Australia/Perth
BEGIN:STANDARD
TZOFFSETFROM:+0800
TZOFFSETTO:+0800
TZNAME:AWST
DTSTART:20210101T000000
END:STANDARD
END:VTIMEZONE
BEGIN:VEVENT
DTSTART;TZID=Australia/Perth:20210501T080000
DTEND;TZID=Australia/Perth:20210501T170000
DTSTAMP:20260421T184907
CREATED:20210328T092826Z
LAST-MODIFIED:20210328T092826Z
UID:3242-1619856000-1619888400@www.stormnetballclub.org
SUMMARY:Games begin!  Yr 7/8\, Yr 9-12 and Opens/Masters
DESCRIPTION:
URL:https://www.stormnetballclub.org/event/games-begin-yr-7-8-yr-9-12-and-opens-masters/
END:VEVENT
BEGIN:VEVENT
DTSTART;TZID=Australia/Perth:20210504T163000
DTEND;TZID=Australia/Perth:20210504T200000
DTSTAMP:20260421T184907
CREATED:20210102T061054Z
LAST-MODIFIED:20210502T031411Z
UID:3019-1620145800-1620158400@www.stormnetballclub.org
SUMMARY:Uniform exchange if needed\, 5:30pm - 8pm at training
DESCRIPTION:Uniform exchanges\, 5:30pm – 8pm\, at training.   Please note your registration fees must be paid in full before you can pick up orders.
URL:https://www.stormnetballclub.org/event/final-uniform-pick-up-exchange-430pm-8pm-and-old-tops-skirts-and-dresses-drop-off/
END:VEVENT
BEGIN:VEVENT
DTSTART;TZID=Australia/Perth:20210504T170000
DTEND;TZID=Australia/Perth:20210504T203000
DTSTAMP:20260421T184907
CREATED:20210320T125804Z
LAST-MODIFIED:20210320T125804Z
UID:3238-1620147600-1620160200@www.stormnetballclub.org
SUMMARY:Usual training times for all age groups
DESCRIPTION:
URL:https://www.stormnetballclub.org/event/usual-training-times-for-all-age-groups-3/
END:VEVENT
BEGIN:VEVENT
DTSTART;TZID=Australia/Perth:20210507T080000
DTEND;TZID=Australia/Perth:20210507T170000
DTSTAMP:20260421T184907
CREATED:20210328T093215Z
LAST-MODIFIED:20210502T031544Z
UID:3248-1620374400-1620406800@www.stormnetballclub.org
SUMMARY:Games begin for Yr 3/4!
DESCRIPTION:Karen Appleby will be in the cage if you need to sort out last minute uniform issues
URL:https://www.stormnetballclub.org/event/games-begin-for-yr-3-4/
END:VEVENT
BEGIN:VEVENT
DTSTART;TZID=Australia/Perth:20210508T080000
DTEND;TZID=Australia/Perth:20210508T170000
DTSTAMP:20260421T184907
CREATED:20210328T093150Z
LAST-MODIFIED:20210502T031507Z
UID:3246-1620460800-1620493200@www.stormnetballclub.org
SUMMARY:Games begin for Yr 5/6! Games for Yr 7/8\, Yr 9-12 and Opens/Masters
DESCRIPTION:Karen Appleby will be in the cage all day to sort out any last minute uniform dramas.
URL:https://www.stormnetballclub.org/event/games-begin-for-yr-5-6-games-for-yr-7-8-yr-9-12-and-opens-masters/
END:VEVENT
BEGIN:VEVENT
DTSTART;TZID=Australia/Perth:20210509T080000
DTEND;TZID=Australia/Perth:20210509T170000
DTSTAMP:20260421T184907
CREATED:20210502T031727Z
LAST-MODIFIED:20210502T031727Z
UID:3433-1620547200-1620579600@www.stormnetballclub.org
SUMMARY:Did you get a GOOD YOUTH dress?
DESCRIPTION:Did you score a good Youth dress\, i.e. that didn’t have the STORM misprint issue on a side panel?  If so\, contact Karen Appleby by today\, Sunday May 9th\, so we can avoid having it remade unnecessarily.  0407 377 737  uniforms@stormnetballclub.org
URL:https://www.stormnetballclub.org/event/did-you-get-a-good-youth-dress/
END:VEVENT
BEGIN:VEVENT
DTSTART;TZID=Australia/Perth:20210511T080000
DTEND;TZID=Australia/Perth:20210511T170000
DTSTAMP:20260421T184907
CREATED:20210328T093302Z
LAST-MODIFIED:20210328T093302Z
UID:3250-1620720000-1620752400@www.stormnetballclub.org
SUMMARY:Usual training times for all age groups
DESCRIPTION:
URL:https://www.stormnetballclub.org/event/usual-training-times-for-all-age-groups-4/
END:VEVENT
BEGIN:VEVENT
DTSTART;TZID=Australia/Perth:20210514T080000
DTEND;TZID=Australia/Perth:20210514T170000
DTSTAMP:20260421T184907
CREATED:20210328T093327Z
LAST-MODIFIED:20210328T093327Z
UID:3252-1620979200-1621011600@www.stormnetballclub.org
SUMMARY:Games Yr 3/4
DESCRIPTION:
URL:https://www.stormnetballclub.org/event/games-yr-3-4/
END:VEVENT
BEGIN:VEVENT
DTSTART;TZID=Australia/Perth:20210515T080000
DTEND;TZID=Australia/Perth:20210515T170000
DTSTAMP:20260421T184907
CREATED:20210328T093404Z
LAST-MODIFIED:20210328T093404Z
UID:3254-1621065600-1621098000@www.stormnetballclub.org
SUMMARY:Games
DESCRIPTION:
URL:https://www.stormnetballclub.org/event/games-12/
END:VEVENT
BEGIN:VEVENT
DTSTART;TZID=Australia/Perth:20210518T080000
DTEND;TZID=Australia/Perth:20210518T170000
DTSTAMP:20260421T184907
CREATED:20210328T093430Z
LAST-MODIFIED:20210328T093430Z
UID:3256-1621324800-1621357200@www.stormnetballclub.org
SUMMARY:Usual training times for all age groups
DESCRIPTION:
URL:https://www.stormnetballclub.org/event/usual-training-times-for-all-age-groups-5/
END:VEVENT
BEGIN:VEVENT
DTSTART;TZID=Australia/Perth:20210521T080000
DTEND;TZID=Australia/Perth:20210521T170000
DTSTAMP:20260421T184907
CREATED:20210328T093447Z
LAST-MODIFIED:20210328T093447Z
UID:3258-1621584000-1621616400@www.stormnetballclub.org
SUMMARY:Yr 3/4 Games
DESCRIPTION:
URL:https://www.stormnetballclub.org/event/yr-3-4-games/
END:VEVENT
BEGIN:VEVENT
DTSTART;TZID=Australia/Perth:20210522T080000
DTEND;TZID=Australia/Perth:20210522T170000
DTSTAMP:20260421T184907
CREATED:20210328T093504Z
LAST-MODIFIED:20210328T093504Z
UID:3260-1621670400-1621702800@www.stormnetballclub.org
SUMMARY:Games
DESCRIPTION:
URL:https://www.stormnetballclub.org/event/games-13/
END:VEVENT
BEGIN:VEVENT
DTSTART;TZID=Australia/Perth:20210525T080000
DTEND;TZID=Australia/Perth:20210525T170000
DTSTAMP:20260421T184907
CREATED:20210328T093526Z
LAST-MODIFIED:20210328T093526Z
UID:3262-1621929600-1621962000@www.stormnetballclub.org
SUMMARY:Usual training times for all age groups
DESCRIPTION:
URL:https://www.stormnetballclub.org/event/usual-training-times-for-all-age-groups-6/
END:VEVENT
BEGIN:VEVENT
DTSTART;TZID=Australia/Perth:20210528T080000
DTEND;TZID=Australia/Perth:20210528T170000
DTSTAMP:20260421T184907
CREATED:20210328T093543Z
LAST-MODIFIED:20210328T093543Z
UID:3264-1622188800-1622221200@www.stormnetballclub.org
SUMMARY:Games Yr 3/4
DESCRIPTION:
URL:https://www.stormnetballclub.org/event/games-yr-3-4-2/
END:VEVENT
BEGIN:VEVENT
DTSTART;TZID=Australia/Perth:20210529T080000
DTEND;TZID=Australia/Perth:20210529T170000
DTSTAMP:20260421T184907
CREATED:20210328T093601Z
LAST-MODIFIED:20210328T093601Z
UID:3266-1622275200-1622307600@www.stormnetballclub.org
SUMMARY:Games
DESCRIPTION:
URL:https://www.stormnetballclub.org/event/games-14/
END:VEVENT
END:VCALENDAR