BEGIN:VCALENDAR
VERSION:2.0
PRODID:-//Storm Netball Club - ECPv6.11.2//NONSGML v1.0//EN
CALSCALE:GREGORIAN
METHOD:PUBLISH
X-ORIGINAL-URL:https://www.stormnetballclub.org
X-WR-CALDESC:Events for Storm Netball Club
REFRESH-INTERVAL;VALUE=DURATION:PT1H
X-Robots-Tag:noindex
X-PUBLISHED-TTL:PT1H
BEGIN:VTIMEZONE
TZID:Australia/Perth
BEGIN:STANDARD
TZOFFSETFROM:+0800
TZOFFSETTO:+0800
TZNAME:AWST
DTSTART:20210101T000000
END:STANDARD
END:VTIMEZONE
BEGIN:VEVENT
DTSTART;TZID=Australia/Perth:20210803T080000
DTEND;TZID=Australia/Perth:20210803T170000
DTSTAMP:20260421T161406
CREATED:20210328T095304Z
LAST-MODIFIED:20210328T095304Z
UID:3324-1627977600-1628010000@www.stormnetballclub.org
SUMMARY:Usual training times for all age groups
DESCRIPTION:
URL:https://www.stormnetballclub.org/event/usual-training-times-for-all-age-groups-11/
END:VEVENT
BEGIN:VEVENT
DTSTART;TZID=Australia/Perth:20210806T080000
DTEND;TZID=Australia/Perth:20210806T170000
DTSTAMP:20260421T161406
CREATED:20210328T095322Z
LAST-MODIFIED:20210328T095322Z
UID:3326-1628236800-1628269200@www.stormnetballclub.org
SUMMARY:Games Yr 3/4
DESCRIPTION:
URL:https://www.stormnetballclub.org/event/games-yr-3-4-8/
END:VEVENT
BEGIN:VEVENT
DTSTART;TZID=Australia/Perth:20210807T080000
DTEND;TZID=Australia/Perth:20210807T170000
DTSTAMP:20260421T161406
CREATED:20210328T095339Z
LAST-MODIFIED:20210328T095339Z
UID:3328-1628323200-1628355600@www.stormnetballclub.org
SUMMARY:GAMES
DESCRIPTION:
URL:https://www.stormnetballclub.org/event/games-21/
END:VEVENT
BEGIN:VEVENT
DTSTART;TZID=Australia/Perth:20210810T080000
DTEND;TZID=Australia/Perth:20210810T170000
DTSTAMP:20260421T161406
CREATED:20210328T095403Z
LAST-MODIFIED:20210328T095403Z
UID:3330-1628582400-1628614800@www.stormnetballclub.org
SUMMARY:Usual training times for all age groups
DESCRIPTION:
URL:https://www.stormnetballclub.org/event/usual-training-times-for-all-age-groups-12/
END:VEVENT
BEGIN:VEVENT
DTSTART;TZID=Australia/Perth:20210813T080000
DTEND;TZID=Australia/Perth:20210813T170000
DTSTAMP:20260421T161406
CREATED:20210328T095419Z
LAST-MODIFIED:20210328T095419Z
UID:3332-1628841600-1628874000@www.stormnetballclub.org
SUMMARY:Games Yr 3/4
DESCRIPTION:
URL:https://www.stormnetballclub.org/event/games-yr-3-4-9/
END:VEVENT
BEGIN:VEVENT
DTSTART;TZID=Australia/Perth:20210814T080000
DTEND;TZID=Australia/Perth:20210814T170000
DTSTAMP:20260421T161406
CREATED:20210328T095729Z
LAST-MODIFIED:20210328T095729Z
UID:3334-1628928000-1628960400@www.stormnetballclub.org
SUMMARY:GAMES
DESCRIPTION:
URL:https://www.stormnetballclub.org/event/games-22/
END:VEVENT
BEGIN:VEVENT
DTSTART;TZID=Australia/Perth:20210817T080000
DTEND;TZID=Australia/Perth:20210817T170000
DTSTAMP:20260421T161406
CREATED:20210328T095756Z
LAST-MODIFIED:20210328T095756Z
UID:3336-1629187200-1629219600@www.stormnetballclub.org
SUMMARY:Usual training times for all age groups
DESCRIPTION:
URL:https://www.stormnetballclub.org/event/usual-training-times-for-all-age-groups-13/
END:VEVENT
BEGIN:VEVENT
DTSTART;TZID=Australia/Perth:20210820T080000
DTEND;TZID=Australia/Perth:20210820T170000
DTSTAMP:20260421T161406
CREATED:20210328T095818Z
LAST-MODIFIED:20210328T095953Z
UID:3338-1629446400-1629478800@www.stormnetballclub.org
SUMMARY:LAST GAMES for Yr 3/4
DESCRIPTION:
URL:https://www.stormnetballclub.org/event/games-yr-3-4-10/
END:VEVENT
BEGIN:VEVENT
DTSTART;TZID=Australia/Perth:20210821T080000
DTEND;TZID=Australia/Perth:20210821T170000
DTSTAMP:20260421T161406
CREATED:20210328T095834Z
LAST-MODIFIED:20210328T095834Z
UID:3340-1629532800-1629565200@www.stormnetballclub.org
SUMMARY:GAMES
DESCRIPTION:
URL:https://www.stormnetballclub.org/event/games-23/
END:VEVENT
BEGIN:VEVENT
DTSTART;TZID=Australia/Perth:20210824T080000
DTEND;TZID=Australia/Perth:20210824T170000
DTSTAMP:20260421T161407
CREATED:20210328T100055Z
LAST-MODIFIED:20210328T100055Z
UID:3343-1629792000-1629824400@www.stormnetballclub.org
SUMMARY:Usual training times for all year groups (except Yr 3/4)
DESCRIPTION:
URL:https://www.stormnetballclub.org/event/usual-training-times-for-all-year-groups-except-yr-3-4/
END:VEVENT
BEGIN:VEVENT
DTSTART;TZID=Australia/Perth:20210828T080000
DTEND;TZID=Australia/Perth:20210828T170000
DTSTAMP:20260421T161407
CREATED:20210328T100144Z
LAST-MODIFIED:20210328T100144Z
UID:3345-1630137600-1630170000@www.stormnetballclub.org
SUMMARY:Last games for Yr 5/6\, last games for Yr 7/8\, 9-12 and Opens/Masters if not in finals
DESCRIPTION:
URL:https://www.stormnetballclub.org/event/last-games-for-yr-5-6-last-games-for-yr-7-8-9-12-and-opens-masters-if-not-in-finals/
END:VEVENT
BEGIN:VEVENT
DTSTART;TZID=Australia/Perth:20210831T080000
DTEND;TZID=Australia/Perth:20210831T170000
DTSTAMP:20260421T161407
CREATED:20210328T100541Z
LAST-MODIFIED:20210328T100541Z
UID:3355-1630396800-1630429200@www.stormnetballclub.org
SUMMARY:Training at usual times if in finals
DESCRIPTION:
URL:https://www.stormnetballclub.org/event/training-at-usual-times-if-in-finals/
END:VEVENT
END:VCALENDAR