BEGIN:VCALENDAR
VERSION:2.0
PRODID:-//Storm Netball Club - ECPv6.11.2//NONSGML v1.0//EN
CALSCALE:GREGORIAN
METHOD:PUBLISH
X-ORIGINAL-URL:https://www.stormnetballclub.org
X-WR-CALDESC:Events for Storm Netball Club
REFRESH-INTERVAL;VALUE=DURATION:PT1H
X-Robots-Tag:noindex
X-PUBLISHED-TTL:PT1H
BEGIN:VTIMEZONE
TZID:Australia/Perth
BEGIN:STANDARD
TZOFFSETFROM:+0800
TZOFFSETTO:+0800
TZNAME:AWST
DTSTART:20220101T000000
END:STANDARD
END:VTIMEZONE
BEGIN:VEVENT
DTSTART;TZID=Australia/Perth:20220208T170000
DTEND;TZID=Australia/Perth:20220208T180000
DTSTAMP:20260421T221649
CREATED:20220117T091545Z
LAST-MODIFIED:20220126T071958Z
UID:3789-1644339600-1644343200@www.stormnetballclub.org
SUMMARY:Grading Yr 7/8 5pm-6:30pm
DESCRIPTION:
URL:https://www.stormnetballclub.org/event/grading-yr-7-8-5pm-6pm/
END:VEVENT
BEGIN:VEVENT
DTSTART;TZID=Australia/Perth:20220208T170000
DTEND;TZID=Australia/Perth:20220208T190000
DTSTAMP:20260421T221649
CREATED:20220115T143506Z
LAST-MODIFIED:20220204T054755Z
UID:3727-1644339600-1644346800@www.stormnetballclub.org
SUMMARY:New Player Night & Uniform Try-On
DESCRIPTION:New Player Night! Boarders and Yr 3-6’s\, 5pm-6pm\, all other new players 6pm-7pm. Come and meet the committee\, sort out any registration/payment issues and be fitted for uniforms.
URL:https://www.stormnetballclub.org/event/new-player-night/
END:VEVENT
BEGIN:VEVENT
DTSTART;TZID=Australia/Perth:20220208T190000
DTEND;TZID=Australia/Perth:20220208T200000
DTSTAMP:20260421T221649
CREATED:20220117T091633Z
LAST-MODIFIED:20220126T072052Z
UID:3794-1644346800-1644350400@www.stormnetballclub.org
SUMMARY:Grading Yr 9-12\, 6:30pm-8pm
DESCRIPTION:
URL:https://www.stormnetballclub.org/event/grading-yr-9-12-7pm-8pm/
END:VEVENT
BEGIN:VEVENT
DTSTART;TZID=Australia/Perth:20220213T160000
DTEND;TZID=Australia/Perth:20220213T180000
DTSTAMP:20260421T221649
CREATED:20220115T150042Z
LAST-MODIFIED:20220117T074947Z
UID:3738-1644768000-1644775200@www.stormnetballclub.org
SUMMARY:Uniform Fitting Session 4-6pm
DESCRIPTION:In the committee meeting room
URL:https://www.stormnetballclub.org/event/uniform-fitting-session-5/
END:VEVENT
BEGIN:VEVENT
DTSTART;TZID=Australia/Perth:20220213T160000
DTEND;TZID=Australia/Perth:20220213T180000
DTSTAMP:20260421T221649
CREATED:20220117T091720Z
LAST-MODIFIED:20220117T091720Z
UID:3796-1644768000-1644775200@www.stormnetballclub.org
SUMMARY:Grading Yr 7/8 4pm-6pm
DESCRIPTION:
URL:https://www.stormnetballclub.org/event/grading-yr-7-8-4pm-6pm/
END:VEVENT
BEGIN:VEVENT
DTSTART;TZID=Australia/Perth:20220215T080000
DTEND;TZID=Australia/Perth:20220215T170000
DTSTAMP:20260421T221649
CREATED:20220115T145910Z
LAST-MODIFIED:20220117T074919Z
UID:3736-1644912000-1644944400@www.stormnetballclub.org
SUMMARY:Uniform Fitting Session 5-7pm
DESCRIPTION:
URL:https://www.stormnetballclub.org/event/uniform-fitting-session-4/
END:VEVENT
BEGIN:VEVENT
DTSTART;TZID=Australia/Perth:20220215T170000
DTEND;TZID=Australia/Perth:20220215T200000
DTSTAMP:20260421T221649
CREATED:20220117T091750Z
LAST-MODIFIED:20220117T091750Z
UID:3798-1644944400-1644955200@www.stormnetballclub.org
SUMMARY:Grading Yr 7/8\, 5pm-8pm
DESCRIPTION:
URL:https://www.stormnetballclub.org/event/grading-yr-7-8-5pm-8pm/
END:VEVENT
BEGIN:VEVENT
DTSTART;TZID=Australia/Perth:20220220T154500
DTEND;TZID=Australia/Perth:20220220T163000
DTSTAMP:20260421T221649
CREATED:20220218T031203Z
LAST-MODIFIED:20220218T031325Z
UID:3856-1645371900-1645374600@www.stormnetballclub.org
SUMMARY:Uniform Fitting Session 3:45-4:30pm
DESCRIPTION:
URL:https://www.stormnetballclub.org/event/uniform-fitting-session-345-430pm/
END:VEVENT
BEGIN:VEVENT
DTSTART;TZID=Australia/Perth:20220220T160000
DTEND;TZID=Australia/Perth:20220220T180000
DTSTAMP:20260421T221649
CREATED:20220117T091826Z
LAST-MODIFIED:20220117T091826Z
UID:3800-1645372800-1645380000@www.stormnetballclub.org
SUMMARY:Grading Yr 9-12\, 4pm-6pm
DESCRIPTION:
URL:https://www.stormnetballclub.org/event/grading-yr-9-12-4pm-6pm/
END:VEVENT
BEGIN:VEVENT
DTSTART;TZID=Australia/Perth:20220222T164500
DTEND;TZID=Australia/Perth:20220222T190000
DTSTAMP:20260421T221649
CREATED:20220115T145656Z
LAST-MODIFIED:20220218T053055Z
UID:3734-1645548300-1645556400@www.stormnetballclub.org
SUMMARY:Uniform Fitting Session 4:45-7pm
DESCRIPTION:
URL:https://www.stormnetballclub.org/event/uniform-fitting-session-3/
END:VEVENT
BEGIN:VEVENT
DTSTART;TZID=Australia/Perth:20220222T170000
DTEND;TZID=Australia/Perth:20220222T183000
DTSTAMP:20260421T221649
CREATED:20220117T091905Z
LAST-MODIFIED:20220126T072155Z
UID:3802-1645549200-1645554600@www.stormnetballclub.org
SUMMARY:Grading Yr 3-6\, 5pm-6:30pm
DESCRIPTION:
URL:https://www.stormnetballclub.org/event/grading-yr-3-6-4pm-6pm/
END:VEVENT
BEGIN:VEVENT
DTSTART;TZID=Australia/Perth:20220222T170000
DTEND;TZID=Australia/Perth:20220222T200000
DTSTAMP:20260421T221649
CREATED:20220117T091938Z
LAST-MODIFIED:20220117T091938Z
UID:3804-1645549200-1645560000@www.stormnetballclub.org
SUMMARY:Grading Yr 9-12\, 5pm-8pm
DESCRIPTION:
URL:https://www.stormnetballclub.org/event/grading-yr-9-12-5pm-8pm/
END:VEVENT
BEGIN:VEVENT
DTSTART;TZID=Australia/Perth:20220227T154500
DTEND;TZID=Australia/Perth:20220227T164500
DTSTAMP:20260421T221649
CREATED:20220117T092056Z
LAST-MODIFIED:20220224T042535Z
UID:3808-1645976700-1645980300@www.stormnetballclub.org
SUMMARY:Yr 7/8 final grading. Arrive by 3:45pm\, on-court 4pm-4:45pm. ATTENDANCE IS ESSENTIAL.
DESCRIPTION:
URL:https://www.stormnetballclub.org/event/grading-opens-4pm-6pm/
END:VEVENT
BEGIN:VEVENT
DTSTART;TZID=Australia/Perth:20220227T154500
DTEND;TZID=Australia/Perth:20220227T181500
DTSTAMP:20260421T221649
CREATED:20220227T045310Z
LAST-MODIFIED:20220227T045310Z
UID:3925-1645976700-1645985700@www.stormnetballclub.org
SUMMARY:Uniform Fitting Session\, 3:45pm-6:15pm
DESCRIPTION:
URL:https://www.stormnetballclub.org/event/uniform-fitting-session-345pm-615pm/
END:VEVENT
BEGIN:VEVENT
DTSTART;TZID=Australia/Perth:20220227T163000
DTEND;TZID=Australia/Perth:20220227T173000
DTSTAMP:20260421T221649
CREATED:20220220T050434Z
LAST-MODIFIED:20220224T042444Z
UID:3884-1645979400-1645983000@www.stormnetballclub.org
SUMMARY:Yr 9-12 final grading. Arrive by 4:30pm. On-court 4:45-5:30pm. ATTENDANCE IS ESSENTIAL.
DESCRIPTION:
URL:https://www.stormnetballclub.org/event/yr-7-8-and-yr-9-12-final-grading-round-robin-check-yr-7-8-register-from-330pm-and-on-court-4pm-5pm-yr-9-12-register-from-4pm-and-on-court-430pm-6pm-essential-attendance/
END:VEVENT
BEGIN:VEVENT
DTSTART;TZID=Australia/Perth:20220227T170000
DTEND;TZID=Australia/Perth:20220227T180000
DTSTAMP:20260421T221649
CREATED:20220224T042646Z
LAST-MODIFIED:20220224T042646Z
UID:3900-1645981200-1645984800@www.stormnetballclub.org
SUMMARY:Opens grading. Arrive by 5pm. Finish 6pm.
DESCRIPTION:
URL:https://www.stormnetballclub.org/event/opens-grading-arrive-by-5pm-finish-6pm/
END:VEVENT
END:VCALENDAR