BEGIN:VCALENDAR
VERSION:2.0
PRODID:-//Storm Netball Club - ECPv6.11.2//NONSGML v1.0//EN
CALSCALE:GREGORIAN
METHOD:PUBLISH
X-ORIGINAL-URL:https://www.stormnetballclub.org
X-WR-CALDESC:Events for Storm Netball Club
REFRESH-INTERVAL;VALUE=DURATION:PT1H
X-Robots-Tag:noindex
X-PUBLISHED-TTL:PT1H
BEGIN:VTIMEZONE
TZID:Australia/Perth
BEGIN:STANDARD
TZOFFSETFROM:+0800
TZOFFSETTO:+0800
TZNAME:AWST
DTSTART:20220101T000000
END:STANDARD
END:VTIMEZONE
BEGIN:VEVENT
DTSTART;TZID=Australia/Perth:20220503T170000
DTEND;TZID=Australia/Perth:20220503T193000
DTSTAMP:20260422T025400
CREATED:20220117T075121Z
LAST-MODIFIED:20220422T124510Z
UID:3765-1651597200-1651606200@www.stormnetballclub.org
SUMMARY:Uniform Issues Session 5pm-7:30pm
DESCRIPTION:Come along to the cage sort out any last minute problems!
URL:https://www.stormnetballclub.org/event/uniform-issues-session-5-7pm/
END:VEVENT
BEGIN:VEVENT
DTSTART;TZID=Australia/Perth:20220506T160000
DTEND;TZID=Australia/Perth:20220506T190000
DTSTAMP:20260422T025400
CREATED:20220422T124559Z
LAST-MODIFIED:20220422T124559Z
UID:3998-1651852800-1651863600@www.stormnetballclub.org
SUMMARY:Games begin for our Year 3 NetSetGo's!
DESCRIPTION:
URL:https://www.stormnetballclub.org/event/games-begin-for-our-year-3-netsetgos/
END:VEVENT
BEGIN:VEVENT
DTSTART;TZID=Australia/Perth:20220507T080000
DTEND;TZID=Australia/Perth:20220507T170000
DTSTAMP:20260422T025400
CREATED:20220422T124629Z
LAST-MODIFIED:20220422T124629Z
UID:4000-1651910400-1651942800@www.stormnetballclub.org
SUMMARY:Games begin for our Yr's 4-6's!
DESCRIPTION:
URL:https://www.stormnetballclub.org/event/games-begin-for-our-yrs-4-6s/
END:VEVENT
END:VCALENDAR